BEGIN:VCALENDAR
VERSION:2.0
PRODID:-//Realschule Dreiländereck - ECPv6.15.20//NONSGML v1.0//EN
CALSCALE:GREGORIAN
METHOD:PUBLISH
X-WR-CALNAME:Realschule Dreiländereck
X-ORIGINAL-URL:https://realschule-dreilaendereck.de
X-WR-CALDESC:Veranstaltungen für Realschule Dreiländereck
REFRESH-INTERVAL;VALUE=DURATION:PT1H
X-Robots-Tag:noindex
X-PUBLISHED-TTL:PT1H
BEGIN:VTIMEZONE
TZID:Europe/Berlin
BEGIN:DAYLIGHT
TZOFFSETFROM:+0100
TZOFFSETTO:+0200
TZNAME:CEST
DTSTART:20250330T010000
END:DAYLIGHT
BEGIN:STANDARD
TZOFFSETFROM:+0200
TZOFFSETTO:+0100
TZNAME:CET
DTSTART:20251026T010000
END:STANDARD
BEGIN:DAYLIGHT
TZOFFSETFROM:+0100
TZOFFSETTO:+0200
TZNAME:CEST
DTSTART:20260329T010000
END:DAYLIGHT
BEGIN:STANDARD
TZOFFSETFROM:+0200
TZOFFSETTO:+0100
TZNAME:CET
DTSTART:20261025T010000
END:STANDARD
BEGIN:DAYLIGHT
TZOFFSETFROM:+0100
TZOFFSETTO:+0200
TZNAME:CEST
DTSTART:20270328T010000
END:DAYLIGHT
BEGIN:STANDARD
TZOFFSETFROM:+0200
TZOFFSETTO:+0100
TZNAME:CET
DTSTART:20271031T010000
END:STANDARD
END:VTIMEZONE
BEGIN:VEVENT
DTSTART;VALUE=DATE:20260508
DTEND;VALUE=DATE:20260509
DTSTAMP:20260421T120203
CREATED:20220905T083400Z
LAST-MODIFIED:20250927T085036Z
UID:1580-1778198400-1778284799@realschule-dreilaendereck.de
SUMMARY:Abschlussprüfung Deutsch
DESCRIPTION:Hauptsschul- und Realschulabschlussprüfung
URL:https://realschule-dreilaendereck.de/termin/abschlusspruefung-deutsch/
LOCATION:Realschule Dreiländereck\, Egerstr. 3\, Weil am Rhein\, 79576
END:VEVENT
BEGIN:VEVENT
DTSTART;VALUE=DATE:20260512
DTEND;VALUE=DATE:20260513
DTSTAMP:20260421T120203
CREATED:20220905T083457Z
LAST-MODIFIED:20250927T084957Z
UID:1584-1778544000-1778630399@realschule-dreilaendereck.de
SUMMARY:Abschlussprüfung Mathematik
DESCRIPTION:Hauptsschul- und Realschulabschlussprüfung
URL:https://realschule-dreilaendereck.de/termin/abschlusspruefung-mathematik/
LOCATION:Realschule Dreiländereck\, Egerstr. 3\, Weil am Rhein\, 79576
END:VEVENT
BEGIN:VEVENT
DTSTART;VALUE=DATE:20260515
DTEND;VALUE=DATE:20260516
DTSTAMP:20260421T120203
CREATED:20250401T073745Z
LAST-MODIFIED:20250401T073745Z
UID:4893-1778803200-1778889599@realschule-dreilaendereck.de
SUMMARY:Brückentag
DESCRIPTION:
URL:https://realschule-dreilaendereck.de/termin/brueckentag-5/
END:VEVENT
BEGIN:VEVENT
DTSTART;VALUE=DATE:20260519
DTEND;VALUE=DATE:20260520
DTSTAMP:20260421T120203
CREATED:20220905T083432Z
LAST-MODIFIED:20250927T085017Z
UID:1582-1779148800-1779235199@realschule-dreilaendereck.de
SUMMARY:Abschlussprüfung Englisch
DESCRIPTION:Hauptsschul- und Realschulabschlussprüfung
URL:https://realschule-dreilaendereck.de/termin/abschlusspruefung-englisch/
LOCATION:Realschule Dreiländereck\, Egerstr. 3\, Weil am Rhein\, 79576
END:VEVENT
BEGIN:VEVENT
DTSTART;VALUE=DATE:20260521
DTEND;VALUE=DATE:20260522
DTSTAMP:20260421T120203
CREATED:20220905T083523Z
LAST-MODIFIED:20250927T084935Z
UID:1586-1779321600-1779407999@realschule-dreilaendereck.de
SUMMARY:Abschlussprüfung Wahlpflichtfach
DESCRIPTION:Hauptsschul- und Realschulabschlussprüfung
URL:https://realschule-dreilaendereck.de/termin/abschlusspruefung-wahlpflichtfach/
LOCATION:Realschule Dreiländereck\, Egerstr. 3\, Weil am Rhein\, 79576
END:VEVENT
BEGIN:VEVENT
DTSTART;VALUE=DATE:20260525
DTEND;VALUE=DATE:20260607
DTSTAMP:20260421T120203
CREATED:20250401T073817Z
LAST-MODIFIED:20250401T073817Z
UID:4896-1779667200-1780790399@realschule-dreilaendereck.de
SUMMARY:Pfingstferien 2026
DESCRIPTION:
URL:https://realschule-dreilaendereck.de/termin/pfingstferien-2026/
END:VEVENT
END:VCALENDAR